BEGIN:VCALENDAR
METHOD:PUBLISH
VERSION:2.0
PRODID:-//www.sokol.cz//ICS Export 2.0//CZ
BEGIN:VEVENT
UID:akce1503007554@sokol.cz
SEQUENCE:0
DTSTART;VALUE=DATE:20231215
CREATED:20230518T200020Z
LAST-MODIFIED:20230518T200020Z
URL:https://www.sokol.cz/akce/1503007554-adventni-koncert-ricanskeho-komorniho-orchestru-2023
CATEGORIES:
LOCATION:Sokolovna Strančice
GEO:49.948936;14.677142
DTSTAMP:20230518T200020Z
DESCRIPTION:Adresa\: jednota\:T.J. Sokol Strančice, župa\:Barákova,Sokolovna Strančice,\n
 Kontaktní osoba\: tjsokolstrancice@seznam.cz, tel. \n
 Garant akce\: \n
 Odkaz\: https://www.sokol.cz/akce/1503007554-adventni-koncert-ricanskeho-komorniho-orchestru-2023\n
SUMMARY:Adventní koncert Říčanského komorního orchestru 2023
END:VEVENT
END:VCALENDAR
