BEGIN:VCALENDAR
METHOD:PUBLISH
VERSION:2.0
PRODID:-//www.sokol.cz//ICS Export 2.0//CZ
BEGIN:VEVENT
UID:akce1503009029@sokol.cz
SEQUENCE:0
DTSTART;VALUE=DATE:20240928
CREATED:20240917T200029Z
LAST-MODIFIED:20240917T200029Z
URL:https://www.sokol.cz/akce/1503009029-sokolska-stezka-v-mirosove
CATEGORIES:
LOCATION:katastr města Mirošov
GEO:0.000000;0.000000
DTSTAMP:20240917T200029Z
DESCRIPTION:Adresa\: jednota\:Sokolská župa Rokycanova, katastr města Mirošov,\n
 Kontaktní osoba\: zrokycanova@sokol.eu, tel. 724945928\n
 Garant akce\: \n
 Odkaz\: https://www.sokol.cz/akce/1503009029-sokolska-stezka-v-mirosove\n
SUMMARY:Sokolská stezka v Mirošově
END:VEVENT
END:VCALENDAR
