BEGIN:VCALENDAR
METHOD:PUBLISH
VERSION:2.0
PRODID:-//www.sokol.cz//ICS Export 2.0//CZ
BEGIN:VEVENT
UID:akce1503009064@sokol.cz
SEQUENCE:0
DTSTART;VALUE=DATE:20241008
CREATED:20240919T200043Z
LAST-MODIFIED:20240919T200043Z
URL:https://www.sokol.cz/akce/1503009064-den-sokolstva-pousteni-lodicek-2024
CATEGORIES:
LOCATION:Hunířov nad Jizerou
GEO:50.668831;15.214499
DTSTAMP:20240919T200043Z
DESCRIPTION:Adresa\: jednota\:T.J. Sokol Huntířov nad Jizerou, župa\:Jizerská,Hunířov nad Jizerou,\n
 Kontaktní osoba\: huntirov_n_jizerou@sokol.eu, tel. 773577888\n
 Garant akce\: \n
 Odkaz\: https://www.sokol.cz/akce/1503009064-den-sokolstva-pousteni-lodicek-2024\n
SUMMARY:Den Sokolstva, pouštění lodiček 2024
END:VEVENT
END:VCALENDAR
