BEGIN:VCALENDAR
METHOD:PUBLISH
VERSION:2.0
PRODID:-//www.sokol.cz//ICS Export 2.0//CZ
BEGIN:VEVENT
UID:akce1503009144@sokol.cz
SEQUENCE:0
DTSTART;VALUE=DATE:20241008
CREATED:20241008T200219Z
LAST-MODIFIED:20241008T200219Z
URL:https://www.sokol.cz/akce/1503009144-svetylka-za-obeti-pamatny-den-sokolstva
CATEGORIES:
LOCATION:Sobotka
GEO:50.467415;15.176199
DTSTAMP:20241008T200219Z
DESCRIPTION:Adresa\: jednota\:T.J. Sokol Sobotka, župa\:Jičínská - Bergrova,Sobotka,\n
 Kontaktní osoba\: sobotka@sokol.eu, tel. 605210872\n
 Garant akce\: \n
 Odkaz\: https://www.sokol.cz/akce/1503009144-svetylka-za-obeti-pamatny-den-sokolstva\n
SUMMARY:Světýlka za oběti - Památný den sokolstva
END:VEVENT
END:VCALENDAR
