BEGIN:VCALENDAR
METHOD:PUBLISH
VERSION:2.0
PRODID:-//www.sokol.cz//ICS Export 2.0//CZ
BEGIN:VEVENT
UID:akce1503009194@sokol.cz
SEQUENCE:0
DTSTART;VALUE=DATE:20241027
CREATED:20241022T200115Z
LAST-MODIFIED:20241022T200115Z
URL:https://www.sokol.cz/akce/1503009194-brusleni-se-sokolem-2024-10-27
CATEGORIES:
LOCATION:Zimní stadion v Písku
GEO:49.307079;14.141866
DTSTAMP:20241022T200115Z
DESCRIPTION:Adresa\: jednota\:T.J. Sokol Písek, župa\:Jihočeská,Zimní stadion v Písku,\n
 Kontaktní osoba\: pisek@sokol.eu, tel. 736740307\n
 Garant akce\: \n
 Odkaz\: https://www.sokol.cz/akce/1503009194-brusleni-se-sokolem-2024-10-27\n
SUMMARY:Bruslení se Sokolem 2024-10-27
END:VEVENT
END:VCALENDAR
