BEGIN:VCALENDAR
METHOD:PUBLISH
VERSION:2.0
PRODID:-//www.sokol.cz//ICS Export 2.0//CZ
BEGIN:VEVENT
UID:akce1503009409@sokol.cz
SEQUENCE:0
DTSTART;VALUE=DATE:20250508
CREATED:20250107T210030Z
LAST-MODIFIED:20250107T210030Z
URL:https://www.sokol.cz/akce/1503009409-pesikuv-pochod-51-rocnik
CATEGORIES:
LOCATION:Sokolská 230, Komárov
GEO:49.806503;13.856367
DTSTAMP:20250107T210030Z
DESCRIPTION:Adresa\: jednota\:T.J. Sokol Komárov, župa\:Jungmannova,Komárov,Sokolská 230,\n
 Kontaktní osoba\: komarov@sokol.eu, tel. 728876858\n
 Garant akce\: \n
 Odkaz\: https://www.sokol.cz/akce/1503009409-pesikuv-pochod-51-rocnik\n
SUMMARY:Pešíkův pochod - 51. ročník
END:VEVENT
END:VCALENDAR
