BEGIN:VCALENDAR
METHOD:PUBLISH
VERSION:2.0
PRODID:-//www.sokol.cz//ICS Export 2.0//CZ
BEGIN:VEVENT
UID:akce1503009465@sokol.cz
SEQUENCE:0
DTSTART;VALUE=DATE:20250323
CREATED:20250114T210047Z
LAST-MODIFIED:20250114T210047Z
URL:https://www.sokol.cz/akce/1503009465-drinske-vitani-jara-2025
CATEGORIES:
LOCATION:Kladno, Lidická 207
GEO:50.148167;14.135289
DTSTAMP:20250114T210047Z
DESCRIPTION:Adresa\: jednota\:T.J. Sokol Dříň, župa\:Budečská,Lidická 207,Kladno,\n
 Kontaktní osoba\: drin@sokol.eu, tel. 604261211\n
 Garant akce\: \n
 Odkaz\: https://www.sokol.cz/akce/1503009465-drinske-vitani-jara-2025\n
SUMMARY:Dříňské vítání jara 2025
END:VEVENT
END:VCALENDAR
