BEGIN:VCALENDAR
METHOD:PUBLISH
VERSION:2.0
PRODID:-//www.sokol.cz//ICS Export 2.0//CZ
BEGIN:VEVENT
UID:akce1503009555@sokol.cz
SEQUENCE:0
DTSTART;VALUE=DATE:20250630
DTEND;VALUE=DATE:20250705
CREATED:20250130T210038Z
LAST-MODIFIED:20250130T210038Z
URL:https://www.sokol.cz/akce/1503009555-primestsky-gymnasticky-tabor-2025
CATEGORIES:
LOCATION:Sokol Příbram
GEO:49.690781;14.011367
DTSTAMP:20250130T210038Z
DESCRIPTION:Adresa\: jednota\:T.J. Sokol Příbram, župa\:Jungmannova,Sokol Příbram,\n
 Kontaktní osoba\: pribram@sokol.eu, tel. 774687829\n
 Garant akce\: \n
 Odkaz\: https://www.sokol.cz/akce/1503009555-primestsky-gymnasticky-tabor-2025\n
SUMMARY:Příměstský gymnastický tábor 2025
END:VEVENT
END:VCALENDAR
