BEGIN:VCALENDAR
METHOD:PUBLISH
VERSION:2.0
PRODID:-//www.sokol.cz//ICS Export 2.0//CZ
BEGIN:VEVENT
UID:akce1503009574@sokol.cz
SEQUENCE:0
DTSTART;VALUE=DATE:20250726
DTEND;VALUE=DATE:20250728
CREATED:20250204T210028Z
LAST-MODIFIED:20250204T210028Z
URL:https://www.sokol.cz/akce/1503009574-tradicni-hrivicka-pout
CATEGORIES:
LOCATION:Sokolovna Hřivice
GEO:50.288116;13.730249
DTSTAMP:20250204T210028Z
DESCRIPTION:Adresa\: jednota\:T.J. Sokol Hřivice, župa\:Sladkovského,Sokolovna Hřivice,\n
 Kontaktní osoba\: hrivice@sokol.eu, tel. \n
 Garant akce\: \n
 Odkaz\: https://www.sokol.cz/akce/1503009574-tradicni-hrivicka-pout\n
SUMMARY:Tradiční Hřivická pouť
END:VEVENT
END:VCALENDAR
