BEGIN:VCALENDAR
METHOD:PUBLISH
VERSION:2.0
PRODID:-//www.sokol.cz//ICS Export 2.0//CZ
BEGIN:VEVENT
UID:akce1503009655@sokol.cz
SEQUENCE:0
DTSTART;VALUE=DATE:20250302
CREATED:20250220T210044Z
LAST-MODIFIED:20250220T210044Z
URL:https://www.sokol.cz/akce/1503009655-detsky-karneval-pohadky-z-vecernicku
CATEGORIES:
LOCATION:Sokolovna Frýdlant nad Ostravicí
GEO:49.591801;18.358505
DTSTAMP:20250220T210044Z
DESCRIPTION:Adresa\: jednota\:T.J. Sokol Frýdlant nad Ostravicí, župa\:Beskydská - J. Čapka,Sokolovna Frýdlant nad Ostravicí,\n
 Kontaktní osoba\: frydlant_n_ostravici@sokol.eu, tel. 558677429\n
 Garant akce\: \n
 Odkaz\: https://www.sokol.cz/akce/1503009655-detsky-karneval-pohadky-z-vecernicku\n
SUMMARY:Dětský karneval - pohádky z večerníčků
END:VEVENT
END:VCALENDAR
