BEGIN:VCALENDAR
METHOD:PUBLISH
VERSION:2.0
PRODID:-//www.sokol.cz//ICS Export 2.0//CZ
BEGIN:VEVENT
UID:akce1503009685@sokol.cz
SEQUENCE:0
DTSTART;VALUE=DATE:20250323
DTEND;VALUE=DATE:20250224
CREATED:20250225T210104Z
LAST-MODIFIED:20250225T210104Z
URL:https://www.sokol.cz/akce/1503009685-detsky-maskarni-karneval-moravicany-2025
CATEGORIES:
LOCATION:Sokolovna Moravičany
GEO:49.756943;16.964241
DTSTAMP:20250225T210104Z
DESCRIPTION:Adresa\: jednota\:T.J. Sokol Moravičany, župa\:Severomoravská,Sokolovna Moravičany,\n
 Kontaktní osoba\: moravicany@sokol.eu, tel. 732973249\n
 Garant akce\: \n
 Odkaz\: https://www.sokol.cz/akce/1503009685-detsky-maskarni-karneval-moravicany-2025\n
SUMMARY:Dětský maškarní karneval Moravičany 2025
END:VEVENT
END:VCALENDAR
