BEGIN:VCALENDAR
METHOD:PUBLISH
VERSION:2.0
PRODID:-//www.sokol.cz//ICS Export 2.0//CZ
BEGIN:VEVENT
UID:akce1503009694@sokol.cz
SEQUENCE:0
DTSTART;VALUE=DATE:20250524
CREATED:20250225T210105Z
LAST-MODIFIED:20250225T210105Z
URL:https://www.sokol.cz/akce/1503009694-skolni-olympiada-25
CATEGORIES:
LOCATION:Náklo 126
GEO:49.654396;17.129599
DTSTAMP:20250225T210105Z
DESCRIPTION:Adresa\: jednota\:T.J. Sokol Náklo, župa\:Olomoucká - Smrčkova,Náklo 126,\n
 Kontaktní osoba\: naklo@sokol.eu, tel. 777035551\n
 Garant akce\: \n
 Odkaz\: https://www.sokol.cz/akce/1503009694-skolni-olympiada-25\n
SUMMARY:školní olympiáda 25
END:VEVENT
END:VCALENDAR
