BEGIN:VCALENDAR
METHOD:PUBLISH
VERSION:2.0
PRODID:-//www.sokol.cz//ICS Export 2.0//CZ
BEGIN:VEVENT
UID:akce1503009771@sokol.cz
SEQUENCE:0
DTSTART;VALUE=DATE:20250323
CREATED:20250318T210031Z
LAST-MODIFIED:20250318T210031Z
URL:https://www.sokol.cz/akce/1503009771-divadlo-v-benove
CATEGORIES:
LOCATION:Beňov č.132
GEO:49.416336;17.502159
DTSTAMP:20250318T210031Z
DESCRIPTION:Adresa\: jednota\:T.J. Sokol Beňov, župa\:Středomoravská - Kratochvílova,Beňov č.132,\n
 Kontaktní osoba\: benov@sokol.eu, tel. 777327221\n
 Garant akce\: \n
 Odkaz\: https://www.sokol.cz/akce/1503009771-divadlo-v-benove\n
SUMMARY:Divadlo v Beňově
END:VEVENT
END:VCALENDAR
