BEGIN:VCALENDAR
METHOD:PUBLISH
VERSION:2.0
PRODID:-//www.sokol.cz//ICS Export 2.0//CZ
BEGIN:VEVENT
UID:akce1503009825@sokol.cz
SEQUENCE:0
DTSTART;VALUE=DATE:20250503
CREATED:20250325T210151Z
LAST-MODIFIED:20250325T210151Z
URL:https://www.sokol.cz/akce/1503009825-pochod-osvobozeni
CATEGORIES:
LOCATION:Padochov 77
GEO:49.135208;16.350286
DTSTAMP:20250325T210151Z
DESCRIPTION:Adresa\: jednota\:T.J. Sokol Padochov, župa\:Jana Máchala,Padochov 77,\n
 Kontaktní osoba\: padochov@sokol.eu, tel. 603849749\n
 Garant akce\: \n
 Odkaz\: https://www.sokol.cz/akce/1503009825-pochod-osvobozeni\n
SUMMARY:Pochod osvobození
END:VEVENT
END:VCALENDAR
