BEGIN:VCALENDAR
METHOD:PUBLISH
VERSION:2.0
PRODID:-//www.sokol.cz//ICS Export 2.0//CZ
BEGIN:VEVENT
UID:akce1503009890@sokol.cz
SEQUENCE:0
DTSTART;VALUE=DATE:20250503
CREATED:20250401T200038Z
LAST-MODIFIED:20250401T200038Z
URL:https://www.sokol.cz/akce/1503009890-volejbalovy-turnaj-smisenych-druzstev-3-5-2025
CATEGORIES:
LOCATION:SOKOLOVNA VRATIMOV
GEO:49.769951;18.310156
DTSTAMP:20250401T200038Z
DESCRIPTION:Adresa\: jednota\:T.J. Sokol Vratimov, župa\:Beskydská - J. Čapka,SOKOLOVNA VRATIMOV,\n
 Kontaktní osoba\: vratimov@sokol.eu, tel. 777056707\n
 Garant akce\: \n
 Odkaz\: https://www.sokol.cz/akce/1503009890-volejbalovy-turnaj-smisenych-druzstev-3-5-2025\n
SUMMARY:VOLEJBALOVÝ TURNAJ SMÍŠENÝCH DRUŽSTEV 3.5.2025
END:VEVENT
END:VCALENDAR
