BEGIN:VCALENDAR
METHOD:PUBLISH
VERSION:2.0
PRODID:-//www.sokol.cz//ICS Export 2.0//CZ
BEGIN:VEVENT
UID:akce1503009985@sokol.cz
SEQUENCE:0
DTSTART;VALUE=DATE:20250503
CREATED:20250425T173733Z
LAST-MODIFIED:20250425T173829Z
URL:https://www.sokol.cz/akce/1503009985-mezinarodni-zavod-v-moderni-gymnastice-morenda-cup-v-brne-3-5-2025-
CATEGORIES:
LOCATION: 639 00 Brno-střed-Štýřice, Sportovní hala SK MG Moravská Slavia Brno Vojtova 785/14
DTSTAMP:20250425T173829Z
DESCRIPTION:Adresa\: Sportovní hala SK MG Moravská Slavia Brno Vojtova 785/14, 639 00 Brno-střed-Štýřice,\n
 Garant akce\: \n
 Odkaz\: https://www.sokol.cz/akce/1503009985-mezinarodni-zavod-v-moderni-gymnastice-morenda-cup-v-brne-3-5-2025-\n
SUMMARY:Mezinárodní závod v moderní gymnastice Morenda Cup v Brně 3. 5. 2025 
END:VEVENT
END:VCALENDAR
