BEGIN:VCALENDAR
METHOD:PUBLISH
VERSION:2.0
PRODID:-//www.sokol.cz//ICS Export 2.0//CZ
BEGIN:VEVENT
UID:akce1503010021@sokol.cz
SEQUENCE:0
DTSTART;VALUE=DATE:20250811
DTEND;VALUE=DATE:20250816
CREATED:20250506T200048Z
LAST-MODIFIED:20250506T200048Z
URL:https://www.sokol.cz/akce/1503010021-primestak-c-4-jak-vycvicit-draka-pisek-2025
CATEGORIES:
LOCATION:sokolovna Písek a okolí
GEO:49.310513;14.148991
DTSTAMP:20250506T200048Z
DESCRIPTION:Adresa\: jednota\:T.J. Sokol Písek, župa\:Jihočeská,sokolovna Písek a okolí,\n
 Kontaktní osoba\: pisek@sokol.eu, tel. 736740307\n
 Garant akce\: \n
 Odkaz\: https://www.sokol.cz/akce/1503010021-primestak-c-4-jak-vycvicit-draka-pisek-2025\n
SUMMARY:Příměšťák č. 4: Jak vycvičit draka - Písek 2025
END:VEVENT
END:VCALENDAR
