BEGIN:VCALENDAR
METHOD:PUBLISH
VERSION:2.0
PRODID:-//www.sokol.cz//ICS Export 2.0//CZ
BEGIN:VEVENT
UID:akce1503010270@sokol.cz
SEQUENCE:0
DTSTART;VALUE=DATE:20250620
CREATED:20250605T200139Z
LAST-MODIFIED:20250605T200139Z
URL:https://www.sokol.cz/akce/1503010270-noc-sokoloven-2025-bystrice-pod-hostynem
CATEGORIES:
LOCATION:768 61 Bystřice pod Hostýnem, Sokolská 207
GEO:49.397469;17.670002
DTSTAMP:20250605T200139Z
DESCRIPTION:Adresa\: jednota\:Česká obec sokolská, Sokolská 207,768 61 Bystřice pod Hostýnem,\n
 Kontaktní osoba\: info@sokol.eu, tel. +420257007111\n
 Garant akce\: \n
 Odkaz\: https://www.sokol.cz/akce/1503010270-noc-sokoloven-2025-bystrice-pod-hostynem\n
SUMMARY:Noc sokoloven 2025 – Bystřice pod Hostýnem
END:VEVENT
END:VCALENDAR
