BEGIN:VCALENDAR
METHOD:PUBLISH
VERSION:2.0
PRODID:-//www.sokol.cz//ICS Export 2.0//CZ
BEGIN:VEVENT
UID:akce1503010275@sokol.cz
SEQUENCE:0
DTSTART;VALUE=DATE:20250620
CREATED:20250605T200139Z
LAST-MODIFIED:20250605T200139Z
URL:https://www.sokol.cz/akce/1503010275-noc-sokoloven-2025-chlumcany
CATEGORIES:
LOCATION:439 03 Chlumčany, Chlumčany 154
GEO:50.334866;13.843701
DTSTAMP:20250605T200139Z
DESCRIPTION:Adresa\: jednota\:Česká obec sokolská, Chlumčany 154,439 03 Chlumčany,\n
 Kontaktní osoba\: info@sokol.eu, tel. +420257007111\n
 Garant akce\: \n
 Odkaz\: https://www.sokol.cz/akce/1503010275-noc-sokoloven-2025-chlumcany\n
SUMMARY:Noc sokoloven 2025 – Chlumčany
END:VEVENT
END:VCALENDAR
