BEGIN:VCALENDAR
METHOD:PUBLISH
VERSION:2.0
PRODID:-//www.sokol.cz//ICS Export 2.0//CZ
BEGIN:VEVENT
UID:akce1503010283@sokol.cz
SEQUENCE:0
DTSTART;VALUE=DATE:20250620
CREATED:20250605T200139Z
LAST-MODIFIED:20250605T200139Z
URL:https://www.sokol.cz/akce/1503010283-noc-sokoloven-2025-tepere
CATEGORIES:
LOCATION:468 22 Železný Brod, Těpeře 66
GEO:50.656593;15.241942
DTSTAMP:20250605T200139Z
DESCRIPTION:Adresa\: jednota\:Česká obec sokolská, Těpeře 66,468 22 Železný Brod,\n
 Kontaktní osoba\: info@sokol.eu, tel. +420257007111\n
 Garant akce\: \n
 Odkaz\: https://www.sokol.cz/akce/1503010283-noc-sokoloven-2025-tepere\n
SUMMARY:Noc sokoloven 2025 – Těpeře
END:VEVENT
END:VCALENDAR
