BEGIN:VCALENDAR
METHOD:PUBLISH
VERSION:2.0
PRODID:-//www.sokol.cz//ICS Export 2.0//CZ
BEGIN:VEVENT
UID:akce1503010445@sokol.cz
SEQUENCE:0
DTSTART;VALUE=DATE:20250726
CREATED:20250710T200042Z
LAST-MODIFIED:20250710T200042Z
URL:https://www.sokol.cz/akce/1503010445-turnaj-tenis
CATEGORIES:
LOCATION:Beňov 132
GEO:49.416336;17.502159
DTSTAMP:20250710T200042Z
DESCRIPTION:Adresa\: jednota\:T.J. Sokol Beňov, župa\:Středomoravská - Kratochvílova,Beňov 132,\n
 Kontaktní osoba\: benov@sokol.eu, tel. 777327221\n
 Garant akce\: \n
 Odkaz\: https://www.sokol.cz/akce/1503010445-turnaj-tenis\n
SUMMARY:Turnaj Tenis
END:VEVENT
END:VCALENDAR
