BEGIN:VCALENDAR
METHOD:PUBLISH
VERSION:2.0
PRODID:-//www.sokol.cz//ICS Export 2.0//CZ
BEGIN:VEVENT
UID:akce1503010464@sokol.cz
SEQUENCE:0
DTSTART:20250726T070000Z
DTEND:20250726T130000Z
CREATED:20250717T200734Z
LAST-MODIFIED:20250717T200804Z
URL:https://www.sokol.cz/akce/1503010464-cyklisticky-zavod-hradesinske-okruhy-26-7-2025-
CATEGORIES:
LOCATION: Česko, Hradešín
DTSTAMP:20250717T200804Z
DESCRIPTION:Adresa\: Hradešín, Česko,\n
 Garant akce\: \n
 Odkaz\: https://www.sokol.cz/akce/1503010464-cyklisticky-zavod-hradesinske-okruhy-26-7-2025-\n
SUMMARY:Cyklistický závod Hradešínské okruhy 26. 7. 2025 
END:VEVENT
END:VCALENDAR
