BEGIN:VCALENDAR
METHOD:PUBLISH
VERSION:2.0
PRODID:-//www.sokol.cz//ICS Export 2.0//CZ
BEGIN:VEVENT
UID:akce1503011231@sokol.cz
SEQUENCE:0
DTSTART;VALUE=DATE:20260321
CREATED:20260210T210043Z
LAST-MODIFIED:20260210T210043Z
URL:https://www.sokol.cz/akce/1503011231-vitani-jara-2026
CATEGORIES:
LOCATION:olomouc, U sokolovny 5
GEO:49.553646;17.251024
DTSTAMP:20260210T210043Z
DESCRIPTION:Adresa\: jednota\:T.J. Sokol Olomouc - Nemilany, U sokolovny 5,olomouc,\n
 Kontaktní osoba\: olomouc-nemilany@sokol.eu, tel. 731167951\n
 Garant akce\: \n
 Odkaz\: https://www.sokol.cz/akce/1503011231-vitani-jara-2026\n
SUMMARY:Vítání jara 2026
END:VEVENT
END:VCALENDAR
