BEGIN:VCALENDAR
METHOD:PUBLISH
VERSION:2.0
PRODID:-//www.sokol.cz//ICS Export 2.0//CZ
BEGIN:VEVENT
UID:akce1503011290@sokol.cz
SEQUENCE:0
DTSTART;VALUE=DATE:20260424
DTEND;VALUE=DATE:20260427
CREATED:20260224T210048Z
LAST-MODIFIED:20260224T210048Z
URL:https://www.sokol.cz/akce/1503011290-mineral-tisnov-jaro-26
CATEGORIES:
LOCATION:Tišnov, Drbalova 274
GEO:49.349842;16.426443
DTSTAMP:20260224T210048Z
DESCRIPTION:Adresa\: jednota\:T.J. Sokol Tišnov, župa\:Pernštejnská,Drbalova 274,Tišnov,\n
 Kontaktní osoba\: tisnov@sokol.eu, tel. 549413175\n
 Garant akce\: \n
 Odkaz\: https://www.sokol.cz/akce/1503011290-mineral-tisnov-jaro-26\n
SUMMARY:Mineral Tišnov jaro 26
END:VEVENT
END:VCALENDAR
