BEGIN:VCALENDAR
METHOD:PUBLISH
VERSION:2.0
PRODID:-//www.sokol.cz//ICS Export 2.0//CZ
BEGIN:VEVENT
UID:akce1503011291@sokol.cz
SEQUENCE:0
DTSTART;VALUE=DATE:20260425
CREATED:20260224T210048Z
LAST-MODIFIED:20260224T210048Z
URL:https://www.sokol.cz/akce/1503011291-paleni-carodejnic
CATEGORIES:
LOCATION:u rybníka v Křelově
GEO:49.614716;17.199537
DTSTAMP:20260224T210048Z
DESCRIPTION:Adresa\: jednota\:T.J. Sokol Křelov, župa\:Olomoucká - Smrčkova,u rybníka v Křelově,\n
 Kontaktní osoba\: krelov@sokol.eu, tel. 603265893\n
 Garant akce\: \n
 Odkaz\: https://www.sokol.cz/akce/1503011291-paleni-carodejnic\n
SUMMARY:Pálení čarodějnic
END:VEVENT
END:VCALENDAR
