BEGIN:VCALENDAR
METHOD:PUBLISH
VERSION:2.0
PRODID:-//www.sokol.cz//ICS Export 2.0//CZ
BEGIN:VEVENT
UID:akce1503011292@sokol.cz
SEQUENCE:0
DTSTART;VALUE=DATE:20260430
CREATED:20260224T210048Z
LAST-MODIFIED:20260224T210048Z
URL:https://www.sokol.cz/akce/1503011292-carodejna-stezka
CATEGORIES:
LOCATION:Lomnice nad Popelkou 512 51, U Košovské hospody,  Košov 2
GEO:50.517677;15.351410
DTSTAMP:20260224T210048Z
DESCRIPTION:Adresa\: jednota\:T.J. Sokol Košov, župa\:Krkonošská - Pecháčkova,U Košovské hospody,  Košov 2,Lomnice nad Popelkou 512 51,\n
 Kontaktní osoba\: tjsokolkosov@seznam.cz, tel. 739555999\n
 Garant akce\: \n
 Odkaz\: https://www.sokol.cz/akce/1503011292-carodejna-stezka\n
SUMMARY:Čarodějná stezka
END:VEVENT
END:VCALENDAR
