BEGIN:VCALENDAR
METHOD:PUBLISH
VERSION:2.0
PRODID:-//www.sokol.cz//ICS Export 2.0//CZ
BEGIN:VEVENT
UID:akce1503011317@sokol.cz
SEQUENCE:0
DTSTART;VALUE=DATE:20260408
CREATED:20260303T210028Z
LAST-MODIFIED:20260303T210028Z
URL:https://www.sokol.cz/akce/1503011317-pochod-jarni-prirodou-2026
CATEGORIES:
LOCATION:Městečko Trnávka
GEO:49.708885;16.725679
DTSTAMP:20260303T210028Z
DESCRIPTION:Adresa\: jednota\:T.J. Sokol Městečko Trnávka, župa\:Východočeská - Pippichova,Městečko Trnávka,\n
 Kontaktní osoba\: mestecko_trnavka@sokol.eu, tel. 724810906\n
 Garant akce\: \n
 Odkaz\: https://www.sokol.cz/akce/1503011317-pochod-jarni-prirodou-2026\n
SUMMARY:Pochod jarní přírodou 2026
END:VEVENT
END:VCALENDAR
