BEGIN:VCALENDAR
METHOD:PUBLISH
VERSION:2.0
PRODID:-//www.sokol.cz//ICS Export 2.0//CZ
BEGIN:VEVENT
UID:akce1503011477@sokol.cz
SEQUENCE:0
DTSTART;VALUE=DATE:20260426
CREATED:20260421T200013Z
LAST-MODIFIED:20260421T200013Z
URL:https://www.sokol.cz/akce/1503011477-jarni-prochazka
CATEGORIES:
LOCATION:Nový Jičín
GEO:49.594326;18.013536
DTSTAMP:20260421T200013Z
DESCRIPTION:Adresa\: jednota\:T.J. Sokol Nový Jičín, župa\:Beskydská - J. Čapka,Nový Jičín,\n
 Kontaktní osoba\: novy_jicin@sokol.eu, tel. 604724319\n
 Garant akce\: \n
 Odkaz\: https://www.sokol.cz/akce/1503011477-jarni-prochazka\n
SUMMARY:Jarní procházka
END:VEVENT
END:VCALENDAR
