BEGIN:VCALENDAR
METHOD:PUBLISH
VERSION:2.0
PRODID:-//www.sokol.cz//ICS Export 2.0//CZ
BEGIN:VEVENT
UID:akce1503011478@sokol.cz
SEQUENCE:0
DTSTART;VALUE=DATE:20260501
CREATED:20260421T200013Z
LAST-MODIFIED:20260421T200013Z
URL:https://www.sokol.cz/akce/1503011478-fotbal-svobodni-vs-zenati
CATEGORIES:
LOCATION:Nová Bělá, Sokolské hřiště
GEO:49.752457;18.255194
DTSTAMP:20260421T200013Z
DESCRIPTION:Adresa\: jednota\:T.J. Sokol Nová Bělá, župa\:Moravskoslezská,Sokolské hřiště,Nová Bělá,\n
 Kontaktní osoba\: nova_bela@sokol.eu, tel. \n
 Garant akce\: \n
 Odkaz\: https://www.sokol.cz/akce/1503011478-fotbal-svobodni-vs-zenati\n
SUMMARY:Fotbal "Svobodní vs Ženatí"
END:VEVENT
END:VCALENDAR
