BEGIN:VCALENDAR
METHOD:PUBLISH
VERSION:2.0
PRODID:-//www.sokol.cz//ICS Export 2.0//CZ
BEGIN:VEVENT
UID:akce1503011479@sokol.cz
SEQUENCE:0
DTSTART;VALUE=DATE:20260516
CREATED:20260421T200013Z
LAST-MODIFIED:20260421T200013Z
URL:https://www.sokol.cz/akce/1503011479-sokoli-stezkou-2026
CATEGORIES:
LOCATION:Bývalé koupaliště Mšené - lázně
GEO:50.368477;14.134747
DTSTAMP:20260421T200013Z
DESCRIPTION:Adresa\: jednota\:T.J. Sokol Mšené-lázně, Bývalé koupaliště Mšené - lázně,\n
 Kontaktní osoba\: msene-lazne@sokol.eu, tel. 724024690\n
 Garant akce\: \n
 Odkaz\: https://www.sokol.cz/akce/1503011479-sokoli-stezkou-2026\n
SUMMARY:Sokolí stezkou 2026
END:VEVENT
END:VCALENDAR
