BEGIN:VCALENDAR
METHOD:PUBLISH
VERSION:2.0
PRODID:-//www.sokol.cz//ICS Export 2.0//CZ
BEGIN:VEVENT
UID:akce1503011480@sokol.cz
SEQUENCE:0
DTSTART;VALUE=DATE:20260516
CREATED:20260421T200013Z
LAST-MODIFIED:20260421T200013Z
URL:https://www.sokol.cz/akce/1503011480-jizda-zrucnosti-v-skm
CATEGORIES:
LOCATION:sokolské hřiště Kroměříž
GEO:49.296680;17.375807
DTSTAMP:20260421T200013Z
DESCRIPTION:Adresa\: jednota\:T.J. Sokol Kroměříž, župa\:Hanácká,sokolské hřiště Kroměříž,\n
 Kontaktní osoba\: kromeriz@sokol.eu, tel. 720966703\n
 Garant akce\: \n
 Odkaz\: https://www.sokol.cz/akce/1503011480-jizda-zrucnosti-v-skm\n
SUMMARY:Jízda zručnosti v SKM
END:VEVENT
END:VCALENDAR
