BEGIN:VCALENDAR
METHOD:PUBLISH
VERSION:2.0
PRODID:-//www.sokol.cz//ICS Export 2.0//CZ
BEGIN:VEVENT
UID:akce1503011481@sokol.cz
SEQUENCE:0
DTSTART;VALUE=DATE:20260516
CREATED:20260421T200013Z
LAST-MODIFIED:20260421T200013Z
URL:https://www.sokol.cz/akce/1503011481-mohelnicky-vandr-11-rocnik-2026
CATEGORIES:
LOCATION:Mohelnice
GEO:49.776981;16.919468
DTSTAMP:20260421T200013Z
DESCRIPTION:Adresa\: jednota\:T.J. Sokol Mohelnice, župa\:Severomoravská,Mohelnice,\n
 Kontaktní osoba\: mohelnice@sokol.eu, tel. +420604585480\n
 Garant akce\: \n
 Odkaz\: https://www.sokol.cz/akce/1503011481-mohelnicky-vandr-11-rocnik-2026\n
SUMMARY:Mohelnický vandr - 11.ročník 2026
END:VEVENT
END:VCALENDAR
