BEGIN:VCALENDAR
METHOD:PUBLISH
VERSION:2.0
PRODID:-//www.sokol.cz//ICS Export 2.0//CZ
BEGIN:VEVENT
UID:akce1503011482@sokol.cz
SEQUENCE:0
DTSTART;VALUE=DATE:20260517
CREATED:20260421T200013Z
LAST-MODIFIED:20260421T200013Z
URL:https://www.sokol.cz/akce/1503011482-ruzovy-fler-jarmark
CATEGORIES:
LOCATION:sokolovna Chotěboř Tyršova 712
GEO:49.717896;15.673586
DTSTAMP:20260421T200013Z
DESCRIPTION:Adresa\: jednota\:T.J. Sokol Chotěboř, župa\:Havlíčkova,sokolovna Chotěboř Tyršova 712,\n
 Kontaktní osoba\: chotebor@sokol.eu, tel. +420724820767\n
 Garant akce\: \n
 Odkaz\: https://www.sokol.cz/akce/1503011482-ruzovy-fler-jarmark\n
SUMMARY:Růžový Fler jarmark
END:VEVENT
END:VCALENDAR
