BEGIN:VCALENDAR
METHOD:PUBLISH
VERSION:2.0
PRODID:-//www.sokol.cz//ICS Export 2.0//CZ
BEGIN:VEVENT
UID:akce1503011496@sokol.cz
SEQUENCE:0
DTSTART;VALUE=DATE:20260430
CREATED:20260423T200028Z
LAST-MODIFIED:20260423T200028Z
URL:https://www.sokol.cz/akce/1503011496-slet-carodejnic-2026-v-dobromilicich
CATEGORIES:
LOCATION:Areal za Sokolovnou Dobromilice
GEO:49.358440;17.141546
DTSTAMP:20260423T200028Z
DESCRIPTION:Adresa\: jednota\:T.J. Sokol Dobromilice, župa\:Prostějovská,Areal za Sokolovnou Dobromilice,\n
 Kontaktní osoba\: dobromilice@sokol.eu, tel. 737607284\n
 Garant akce\: \n
 Odkaz\: https://www.sokol.cz/akce/1503011496-slet-carodejnic-2026-v-dobromilicich\n
SUMMARY:Slet čarodějnic 2026 v Dobromilicích
END:VEVENT
END:VCALENDAR
