BEGIN:VCALENDAR
METHOD:PUBLISH
VERSION:2.0
PRODID:-//www.sokol.cz//ICS Export 2.0//CZ
BEGIN:VEVENT
UID:akce1503011497@sokol.cz
SEQUENCE:0
DTSTART;VALUE=DATE:20260509
CREATED:20260423T200028Z
LAST-MODIFIED:20260423T200028Z
URL:https://www.sokol.cz/akce/1503011497-volejbalovy-turnaj
CATEGORIES:
LOCATION:753 61 Hranice, Slavíč 86
GEO:49.540161;17.651968
DTSTAMP:20260423T200028Z
DESCRIPTION:Adresa\: jednota\:T.J. Sokol Slavíč, župa\:Středomoravská - Kratochvílova,Slavíč 86,753 61 Hranice,\n
 Kontaktní osoba\: slavic@sokol.eu, tel. 773789645\n
 Garant akce\: \n
 Odkaz\: https://www.sokol.cz/akce/1503011497-volejbalovy-turnaj\n
SUMMARY:Volejbalový turnaj
END:VEVENT
END:VCALENDAR
