BEGIN:VCALENDAR
METHOD:PUBLISH
VERSION:2.0
PRODID:-//www.sokol.cz//ICS Export 2.0//CZ
BEGIN:VEVENT
UID:akce1503011498@sokol.cz
SEQUENCE:0
DTSTART;VALUE=DATE:20260509
DTEND;VALUE=DATE:20260511
CREATED:20260423T200028Z
LAST-MODIFIED:20260423T200028Z
URL:https://www.sokol.cz/akce/1503011498-prodejni-vystava-skalnicek-ve-stipe
CATEGORIES:
LOCATION:Zlín – Štípa, Mariánské náměstí 197
GEO:49.262108;17.714287
DTSTAMP:20260423T200028Z
DESCRIPTION:Adresa\: jednota\:T.J. Sokol Štípa, župa\:Komenského,Mariánské náměstí 197,Zlín – Štípa,\n
 Kontaktní osoba\: sokolstipa@seznam.cz, tel. 724735165\n
 Garant akce\: \n
 Odkaz\: https://www.sokol.cz/akce/1503011498-prodejni-vystava-skalnicek-ve-stipe\n
SUMMARY:Prodejní výstava skalniček ve Štípě
END:VEVENT
END:VCALENDAR
