BEGIN:VCALENDAR
METHOD:PUBLISH
VERSION:2.0
PRODID:-//www.sokol.cz//ICS Export 2.0//CZ
BEGIN:VEVENT
UID:akce1503011499@sokol.cz
SEQUENCE:0
DTSTART;VALUE=DATE:20260521
CREATED:20260423T200028Z
LAST-MODIFIED:20260423T200028Z
URL:https://www.sokol.cz/akce/1503011499-strelba-vzduchovkou
CATEGORIES:
LOCATION:Klášterní 2, Plzeň
GEO:49.734722;13.391857
DTSTAMP:20260423T200028Z
DESCRIPTION:Adresa\: jednota\:T.J. Sokol Plzeň V, župa\:Plzeňská,Plzeň,Klášterní 2,\n
 Kontaktní osoba\: plzen_v@sokol.eu, tel. +420723467819\n
 Garant akce\: \n
 Odkaz\: https://www.sokol.cz/akce/1503011499-strelba-vzduchovkou\n
SUMMARY:Střelba vzduchovkou
END:VEVENT
END:VCALENDAR
