BEGIN:VCALENDAR
METHOD:PUBLISH
VERSION:2.0
PRODID:-//www.sokol.cz//ICS Export 2.0//CZ
BEGIN:VEVENT
UID:akce1503011500@sokol.cz
SEQUENCE:0
DTSTART;VALUE=DATE:20260524
CREATED:20260423T200028Z
LAST-MODIFIED:20260423T200028Z
URL:https://www.sokol.cz/akce/1503011500-free-aerobik
CATEGORIES:
LOCATION:TJ Sokol Moravské Budějovice
GEO:49.053825;15.807178
DTSTAMP:20260423T200028Z
DESCRIPTION:Adresa\: jednota\:T.J. Sokol Moravské Budějovice, župa\:Plk. Švece,TJ Sokol Moravské Budějovice,\n
 Kontaktní osoba\: moravske_budejovice@sokol.eu, tel. 737355485\n
 Garant akce\: \n
 Odkaz\: https://www.sokol.cz/akce/1503011500-free-aerobik\n
SUMMARY:Free Aerobik
END:VEVENT
END:VCALENDAR
